BEGIN:VCALENDAR
VERSION:2.0
PRODID:-//Haka - ECPv5.14.1//NONSGML v1.0//EN
CALSCALE:GREGORIAN
METHOD:PUBLISH
X-WR-CALNAME:Haka
X-ORIGINAL-URL:https://haka.hu
X-WR-CALDESC:Events for Haka
BEGIN:VTIMEZONE
TZID:Europe/Helsinki
BEGIN:DAYLIGHT
TZOFFSETFROM:+0200
TZOFFSETTO:+0300
TZNAME:EEST
DTSTART:20230326T010000
END:DAYLIGHT
BEGIN:STANDARD
TZOFFSETFROM:+0300
TZOFFSETTO:+0200
TZNAME:EET
DTSTART:20231029T010000
END:STANDARD
END:VTIMEZONE
BEGIN:VEVENT
DTSTART;TZID=Europe/Helsinki:20230601T173000
DTEND;TZID=Europe/Helsinki:20230601T200000
DTSTAMP:20260423T131959
CREATED:20230328T075126Z
LAST-MODIFIED:20230328T075126Z
UID:5635-1685640600-1685649600@haka.hu
SUMMARY:Tavaszi Országos Születésnapi Rendezvénysorozat – 2023.06.01. Veszprém - Fenyves u. 15-17 - Hotel Historia Malomkert
DESCRIPTION:
URL:https://haka.hu/esemeny/tavaszi-orszagos-szuletesnapi-rendezvenysorozat-2023-06-01-veszprem-fenyves-u-15-17-hotel-historia-malomkert/
END:VEVENT
END:VCALENDAR