BEGIN:VCALENDAR
VERSION:2.0
PRODID:-//Haka - ECPv5.14.1//NONSGML v1.0//EN
CALSCALE:GREGORIAN
METHOD:PUBLISH
X-WR-CALNAME:Haka
X-ORIGINAL-URL:https://haka.hu
X-WR-CALDESC:Events for Haka
BEGIN:VTIMEZONE
TZID:Europe/Helsinki
BEGIN:DAYLIGHT
TZOFFSETFROM:+0200
TZOFFSETTO:+0300
TZNAME:EEST
DTSTART:20230326T010000
END:DAYLIGHT
BEGIN:STANDARD
TZOFFSETFROM:+0300
TZOFFSETTO:+0200
TZNAME:EET
DTSTART:20231029T010000
END:STANDARD
END:VTIMEZONE
BEGIN:VEVENT
DTSTART;TZID=Europe/Helsinki:20230525T173000
DTEND;TZID=Europe/Helsinki:20230525T200000
DTSTAMP:20260423T141554
CREATED:20230328T075031Z
LAST-MODIFIED:20230328T075031Z
UID:5629-1685035800-1685044800@haka.hu
SUMMARY:Tavaszi Országos Születésnapi Rendezvénysorozat – 2023.05.25. Projekt osztály - Budapest\, Kárpát u. 62-64 - Danubius Hotel Helia
DESCRIPTION:
URL:https://haka.hu/esemeny/tavaszi-orszagos-szuletesnapi-rendezvenysorozat-2023-05-25-projekt-osztaly-budapest-karpat-u-62-64-danubius-hotel-helia/
END:VEVENT
END:VCALENDAR