BEGIN:VCALENDAR
VERSION:2.0
PRODID:-//Haka - ECPv5.14.1//NONSGML v1.0//EN
CALSCALE:GREGORIAN
METHOD:PUBLISH
X-WR-CALNAME:Haka
X-ORIGINAL-URL:https://haka.hu
X-WR-CALDESC:Events for Haka
BEGIN:VTIMEZONE
TZID:Europe/Helsinki
BEGIN:DAYLIGHT
TZOFFSETFROM:+0200
TZOFFSETTO:+0300
TZNAME:EEST
DTSTART:20230326T010000
END:DAYLIGHT
BEGIN:STANDARD
TZOFFSETFROM:+0300
TZOFFSETTO:+0200
TZNAME:EET
DTSTART:20231029T010000
END:STANDARD
END:VTIMEZONE
BEGIN:VEVENT
DTSTART;TZID=Europe/Helsinki:20230516T173000
DTEND;TZID=Europe/Helsinki:20230516T200000
DTSTAMP:20260423T141526
CREATED:20230328T074858Z
LAST-MODIFIED:20230328T074858Z
UID:5619-1684258200-1684267200@haka.hu
SUMMARY:Tavaszi Országos Születésnapi Rendezvénysorozat – 2023.05.16. Kecskemét - Batthyány u. 1-7 - Hotel Három Gúnár
DESCRIPTION:
URL:https://haka.hu/esemeny/tavaszi-orszagos-szuletesnapi-rendezvenysorozat-2023-05-16-kecskemet-batthyany-u-1-7-hotel-harom-gunar/
END:VEVENT
END:VCALENDAR