BEGIN:VCALENDAR
VERSION:2.0
PRODID:-//Haka - ECPv5.14.1//NONSGML v1.0//EN
CALSCALE:GREGORIAN
METHOD:PUBLISH
X-WR-CALNAME:Haka
X-ORIGINAL-URL:https://haka.hu
X-WR-CALDESC:Events for Haka
BEGIN:VTIMEZONE
TZID:Europe/Helsinki
BEGIN:DAYLIGHT
TZOFFSETFROM:+0200
TZOFFSETTO:+0300
TZNAME:EEST
DTSTART:20220327T010000
END:DAYLIGHT
BEGIN:STANDARD
TZOFFSETFROM:+0300
TZOFFSETTO:+0200
TZNAME:EET
DTSTART:20221030T010000
END:STANDARD
END:VTIMEZONE
BEGIN:VEVENT
DTSTART;TZID=Europe/Helsinki:20220924T070000
DTEND;TZID=Europe/Helsinki:20220924T120000
DTSTAMP:20260424T021231
CREATED:20220916T112045Z
LAST-MODIFIED:20220920T114322Z
UID:5556-1664002800-1664020800@haka.hu
SUMMARY:Soós 2000 Kft.
DESCRIPTION:Dabas
URL:https://haka.hu/esemeny/soos-2000-kft-2/
END:VEVENT
END:VCALENDAR