BEGIN:VCALENDAR
VERSION:2.0
PRODID:-//Haka - ECPv5.14.1//NONSGML v1.0//EN
CALSCALE:GREGORIAN
METHOD:PUBLISH
X-WR-CALNAME:Haka
X-ORIGINAL-URL:https://haka.hu
X-WR-CALDESC:Events for Haka
BEGIN:VTIMEZONE
TZID:Europe/Helsinki
BEGIN:DAYLIGHT
TZOFFSETFROM:+0200
TZOFFSETTO:+0300
TZNAME:EEST
DTSTART:20220327T010000
END:DAYLIGHT
BEGIN:STANDARD
TZOFFSETFROM:+0300
TZOFFSETTO:+0200
TZNAME:EET
DTSTART:20221030T010000
END:STANDARD
END:VTIMEZONE
BEGIN:VEVENT
DTSTART;TZID=Europe/Helsinki:20220615T070000
DTEND;TZID=Europe/Helsinki:20220615T120000
DTSTAMP:20260424T060628
CREATED:20220607T094415Z
LAST-MODIFIED:20220607T094415Z
UID:5437-1655276400-1655294400@haka.hu
SUMMARY:Aqua Caldo Bt.
DESCRIPTION:Miskolc
URL:https://haka.hu/esemeny/aqua-caldo-bt/
END:VEVENT
END:VCALENDAR