BEGIN:VCALENDAR
VERSION:2.0
PRODID:-//Haka - ECPv5.14.1//NONSGML v1.0//EN
CALSCALE:GREGORIAN
METHOD:PUBLISH
X-WR-CALNAME:Haka
X-ORIGINAL-URL:https://haka.hu
X-WR-CALDESC:Events for Haka
BEGIN:VTIMEZONE
TZID:Europe/Helsinki
BEGIN:DAYLIGHT
TZOFFSETFROM:+0200
TZOFFSETTO:+0300
TZNAME:EEST
DTSTART:20220327T010000
END:DAYLIGHT
BEGIN:STANDARD
TZOFFSETFROM:+0300
TZOFFSETTO:+0200
TZNAME:EET
DTSTART:20221030T010000
END:STANDARD
END:VTIMEZONE
BEGIN:VEVENT
DTSTART;TZID=Europe/Helsinki:20220617T070000
DTEND;TZID=Europe/Helsinki:20220617T120000
DTSTAMP:20260424T072308
CREATED:20220607T094643Z
LAST-MODIFIED:20220607T094643Z
UID:5449-1655449200-1655467200@haka.hu
SUMMARY:Újvári László ev.
DESCRIPTION:Soltvadkert
URL:https://haka.hu/esemeny/ujvari-laszlo-ev/
END:VEVENT
END:VCALENDAR