BEGIN:VCALENDAR
VERSION:2.0
PRODID:-//Haka - ECPv5.14.1//NONSGML v1.0//EN
CALSCALE:GREGORIAN
METHOD:PUBLISH
X-WR-CALNAME:Haka
X-ORIGINAL-URL:https://haka.hu
X-WR-CALDESC:Events for Haka
BEGIN:VTIMEZONE
TZID:Europe/Helsinki
BEGIN:DAYLIGHT
TZOFFSETFROM:+0200
TZOFFSETTO:+0300
TZNAME:EEST
DTSTART:20230326T010000
END:DAYLIGHT
BEGIN:STANDARD
TZOFFSETFROM:+0300
TZOFFSETTO:+0200
TZNAME:EET
DTSTART:20231029T010000
END:STANDARD
END:VTIMEZONE
BEGIN:VEVENT
DTSTART;TZID=Europe/Helsinki:20230328T070000
DTEND;TZID=Europe/Helsinki:20230328T120000
DTSTAMP:20260423T153652
CREATED:20230328T073903Z
LAST-MODIFIED:20230328T073955Z
UID:5578-1679986800-1680004800@haka.hu
SUMMARY:Tavaszi Roadshow - 2023.03.28. Budapest 23
DESCRIPTION:
URL:https://haka.hu/esemeny/tavaszi-roadshow-2023-03-28-budapest-23/
END:VEVENT
END:VCALENDAR