BEGIN:VCALENDAR
VERSION:2.0
PRODID:-//Haka - ECPv5.14.1//NONSGML v1.0//EN
CALSCALE:GREGORIAN
METHOD:PUBLISH
X-WR-CALNAME:Haka
X-ORIGINAL-URL:https://haka.hu
X-WR-CALDESC:Events for Haka
BEGIN:VTIMEZONE
TZID:Europe/Helsinki
BEGIN:DAYLIGHT
TZOFFSETFROM:+0200
TZOFFSETTO:+0300
TZNAME:EEST
DTSTART:20230326T010000
END:DAYLIGHT
BEGIN:STANDARD
TZOFFSETFROM:+0300
TZOFFSETTO:+0200
TZNAME:EET
DTSTART:20231029T010000
END:STANDARD
END:VTIMEZONE
BEGIN:VEVENT
DTSTART;TZID=Europe/Helsinki:20230524T173000
DTEND;TZID=Europe/Helsinki:20230524T200000
DTSTAMP:20260423T143312
CREATED:20230328T075011Z
LAST-MODIFIED:20230328T075011Z
UID:5627-1684949400-1684958400@haka.hu
SUMMARY:Tavaszi Országos Születésnapi Rendezvénysorozat – 2023.05.24. Pest (Dunakeszi\, Budapest 17\, Budapest 13) - Danubius Hotel Helia
DESCRIPTION:
URL:https://haka.hu/esemeny/tavaszi-orszagos-szuletesnapi-rendezvenysorozat-2023-05-24-pest-dunakeszi-budapest-17-budapest-13-danubius-hotel-helia/
END:VEVENT
END:VCALENDAR