BEGIN:VCALENDAR
VERSION:2.0
PRODID:-//Haka - ECPv5.14.1//NONSGML v1.0//EN
CALSCALE:GREGORIAN
METHOD:PUBLISH
X-WR-CALNAME:Haka
X-ORIGINAL-URL:https://haka.hu
X-WR-CALDESC:Events for Haka
BEGIN:VTIMEZONE
TZID:Europe/Helsinki
BEGIN:DAYLIGHT
TZOFFSETFROM:+0200
TZOFFSETTO:+0300
TZNAME:EEST
DTSTART:20230326T010000
END:DAYLIGHT
BEGIN:STANDARD
TZOFFSETFROM:+0300
TZOFFSETTO:+0200
TZNAME:EET
DTSTART:20231029T010000
END:STANDARD
END:VTIMEZONE
BEGIN:VEVENT
DTSTART;TZID=Europe/Helsinki:20230425T173000
DTEND;TZID=Europe/Helsinki:20230425T200000
DTSTAMP:20260423T153915
CREATED:20230328T074533Z
LAST-MODIFIED:20230328T074533Z
UID:5601-1682443800-1682452800@haka.hu
SUMMARY:Tavaszi Országos Születésnapi Rendezvénysorozat – 2023.04.25. Szekszárd - Decsi Szőlőhegy pl. 57 - Takler Kúria
DESCRIPTION:
URL:https://haka.hu/esemeny/tavaszi-orszagos-szuletesnapi-rendezvenysorozat-2023-04-25-szekszard-decsi-szolohegy-pl-57-takler-kuria/
END:VEVENT
END:VCALENDAR