BEGIN:VCALENDAR
VERSION:2.0
PRODID:-//Haka - ECPv5.14.1//NONSGML v1.0//EN
CALSCALE:GREGORIAN
METHOD:PUBLISH
X-WR-CALNAME:Haka
X-ORIGINAL-URL:https://haka.hu
X-WR-CALDESC:Events for Haka
BEGIN:VTIMEZONE
TZID:Europe/Helsinki
BEGIN:DAYLIGHT
TZOFFSETFROM:+0200
TZOFFSETTO:+0300
TZNAME:EEST
DTSTART:20230326T010000
END:DAYLIGHT
BEGIN:STANDARD
TZOFFSETFROM:+0300
TZOFFSETTO:+0200
TZNAME:EET
DTSTART:20231029T010000
END:STANDARD
END:VTIMEZONE
BEGIN:VEVENT
DTSTART;TZID=Europe/Helsinki:20230418T173000
DTEND;TZID=Europe/Helsinki:20230418T200000
DTSTAMP:20260423T153849
CREATED:20230328T074415Z
LAST-MODIFIED:20230328T074415Z
UID:5595-1681839000-1681848000@haka.hu
SUMMARY:Tavaszi Országos Születésnapi Rendezvénysorozat - 2023.04.18. Zalaegerszeg - Balatoni út 2/a - Willis Hotel
DESCRIPTION:
URL:https://haka.hu/esemeny/tavaszi-orszagos-szuletesnapi-rendezvenysorozat-2023-04-18-zalaegerszeg-balatoni-ut-2-a-willis-hotel/
END:VEVENT
END:VCALENDAR