BEGIN:VCALENDAR
VERSION:2.0
PRODID:-//Haka - ECPv5.14.1//NONSGML v1.0//EN
CALSCALE:GREGORIAN
METHOD:PUBLISH
X-WR-CALNAME:Haka
X-ORIGINAL-URL:https://haka.hu
X-WR-CALDESC:Events for Haka
BEGIN:VTIMEZONE
TZID:Europe/Helsinki
BEGIN:DAYLIGHT
TZOFFSETFROM:+0200
TZOFFSETTO:+0300
TZNAME:EEST
DTSTART:20220327T010000
END:DAYLIGHT
BEGIN:STANDARD
TZOFFSETFROM:+0300
TZOFFSETTO:+0200
TZNAME:EET
DTSTART:20221030T010000
END:STANDARD
END:VTIMEZONE
BEGIN:VEVENT
DTSTART;TZID=Europe/Helsinki:20220719T070000
DTEND;TZID=Europe/Helsinki:20220719T120000
DTSTAMP:20260424T060504
CREATED:20220617T082359Z
LAST-MODIFIED:20220617T082359Z
UID:5508-1658214000-1658232000@haka.hu
SUMMARY:Stimmel Kft.
DESCRIPTION:Tapolca
URL:https://haka.hu/esemeny/stimmel-kft/
END:VEVENT
END:VCALENDAR