BEGIN:VCALENDAR
VERSION:2.0
PRODID:-//Haka - ECPv5.14.1//NONSGML v1.0//EN
CALSCALE:GREGORIAN
METHOD:PUBLISH
X-WR-CALNAME:Haka
X-ORIGINAL-URL:https://haka.hu
X-WR-CALDESC:Events for Haka
BEGIN:VTIMEZONE
TZID:Europe/Helsinki
BEGIN:DAYLIGHT
TZOFFSETFROM:+0200
TZOFFSETTO:+0300
TZNAME:EEST
DTSTART:20220327T010000
END:DAYLIGHT
BEGIN:STANDARD
TZOFFSETFROM:+0300
TZOFFSETTO:+0200
TZNAME:EET
DTSTART:20221030T010000
END:STANDARD
END:VTIMEZONE
BEGIN:VEVENT
DTSTART;TZID=Europe/Helsinki:20220725T070000
DTEND;TZID=Europe/Helsinki:20220725T120000
DTSTAMP:20260424T021539
CREATED:20220708T060840Z
LAST-MODIFIED:20220708T060840Z
UID:5524-1658732400-1658750400@haka.hu
SUMMARY:Ráczió+2001 Kft.
DESCRIPTION:Budapest
URL:https://haka.hu/esemeny/raczio2001-kft/
END:VEVENT
END:VCALENDAR