BEGIN:VCALENDAR
VERSION:2.0
PRODID:-//Haka - ECPv5.14.1//NONSGML v1.0//EN
CALSCALE:GREGORIAN
METHOD:PUBLISH
X-WR-CALNAME:Haka
X-ORIGINAL-URL:https://haka.hu
X-WR-CALDESC:Events for Haka
BEGIN:VTIMEZONE
TZID:Europe/Helsinki
BEGIN:DAYLIGHT
TZOFFSETFROM:+0200
TZOFFSETTO:+0300
TZNAME:EEST
DTSTART:20220327T010000
END:DAYLIGHT
BEGIN:STANDARD
TZOFFSETFROM:+0300
TZOFFSETTO:+0200
TZNAME:EET
DTSTART:20221030T010000
END:STANDARD
END:VTIMEZONE
BEGIN:VEVENT
DTSTART;TZID=Europe/Helsinki:20220722T070000
DTEND;TZID=Europe/Helsinki:20220722T120000
DTSTAMP:20260424T034002
CREATED:20220614T081414Z
LAST-MODIFIED:20220614T081550Z
UID:5474-1658473200-1658491200@haka.hu
SUMMARY:Lan-Co Kft.
DESCRIPTION:Vác
URL:https://haka.hu/esemeny/lan-co-kft/
END:VEVENT
END:VCALENDAR