BEGIN:VCALENDAR
VERSION:2.0
PRODID:-//Haka - ECPv5.14.1//NONSGML v1.0//EN
CALSCALE:GREGORIAN
METHOD:PUBLISH
X-WR-CALNAME:Haka
X-ORIGINAL-URL:https://haka.hu
X-WR-CALDESC:Events for Haka
BEGIN:VTIMEZONE
TZID:Europe/Helsinki
BEGIN:DAYLIGHT
TZOFFSETFROM:+0200
TZOFFSETTO:+0300
TZNAME:EEST
DTSTART:20240331T010000
END:DAYLIGHT
BEGIN:STANDARD
TZOFFSETFROM:+0300
TZOFFSETTO:+0200
TZNAME:EET
DTSTART:20241027T010000
END:STANDARD
END:VTIMEZONE
BEGIN:VEVENT
DTSTART;VALUE=DATE:20240701
DTEND;VALUE=DATE:20240702
DTSTAMP:20260420T174215
CREATED:20240624T110658Z
LAST-MODIFIED:20240624T110658Z
UID:5955-1719792000-1719878399@haka.hu
SUMMARY:Dunakeszi
DESCRIPTION:
URL:https://haka.hu/esemeny/dunakeszi/
END:VEVENT
END:VCALENDAR